BEGIN:VCALENDAR
VERSION:2.0
PRODID:-//In Medias Brass - ECPv6.15.20//NONSGML v1.0//EN
CALSCALE:GREGORIAN
METHOD:PUBLISH
X-WR-CALNAME:In Medias Brass
X-ORIGINAL-URL:https://inmediasbrass.hu
X-WR-CALDESC:Események In Medias Brass
REFRESH-INTERVAL;VALUE=DURATION:PT1H
X-Robots-Tag:noindex
X-PUBLISHED-TTL:PT1H
BEGIN:VTIMEZONE
TZID:Europe/Paris
BEGIN:DAYLIGHT
TZOFFSETFROM:+0100
TZOFFSETTO:+0200
TZNAME:CEST
DTSTART:20250330T010000
END:DAYLIGHT
BEGIN:STANDARD
TZOFFSETFROM:+0200
TZOFFSETTO:+0100
TZNAME:CET
DTSTART:20251026T010000
END:STANDARD
BEGIN:DAYLIGHT
TZOFFSETFROM:+0100
TZOFFSETTO:+0200
TZNAME:CEST
DTSTART:20260329T010000
END:DAYLIGHT
BEGIN:STANDARD
TZOFFSETFROM:+0200
TZOFFSETTO:+0100
TZNAME:CET
DTSTART:20261025T010000
END:STANDARD
BEGIN:DAYLIGHT
TZOFFSETFROM:+0100
TZOFFSETTO:+0200
TZNAME:CEST
DTSTART:20270328T010000
END:DAYLIGHT
BEGIN:STANDARD
TZOFFSETFROM:+0200
TZOFFSETTO:+0100
TZNAME:CET
DTSTART:20271031T010000
END:STANDARD
END:VTIMEZONE
BEGIN:VEVENT
DTSTART;TZID=Europe/Paris:20260413T100000
DTEND;TZID=Europe/Paris:20260413T170000
DTSTAMP:20260424T193451
CREATED:20260423T054906Z
LAST-MODIFIED:20260423T054945Z
UID:1367-1776074400-1776099600@inmediasbrass.hu
SUMMARY:In Medias Brass koncert
DESCRIPTION:In Medias Brass koncert a Petőfi Kulturális Program keretében\, a Filharmónia Magyarország szervezésében. (Zártkörű rendezvény)
URL:https://inmediasbrass.hu/event/in-medias-brass-koncert-3/
LOCATION:Isaszegi Művelődési Ház
END:VEVENT
END:VCALENDAR