BEGIN:VCALENDAR
VERSION:2.0
PRODID:-//In Medias Brass - ECPv6.15.20//NONSGML v1.0//EN
CALSCALE:GREGORIAN
METHOD:PUBLISH
X-WR-CALNAME:In Medias Brass
X-ORIGINAL-URL:https://inmediasbrass.hu
X-WR-CALDESC:Események In Medias Brass
REFRESH-INTERVAL;VALUE=DURATION:PT1H
X-Robots-Tag:noindex
X-PUBLISHED-TTL:PT1H
BEGIN:VTIMEZONE
TZID:Europe/Paris
BEGIN:DAYLIGHT
TZOFFSETFROM:+0100
TZOFFSETTO:+0200
TZNAME:CEST
DTSTART:20240331T010000
END:DAYLIGHT
BEGIN:STANDARD
TZOFFSETFROM:+0200
TZOFFSETTO:+0100
TZNAME:CET
DTSTART:20241027T010000
END:STANDARD
BEGIN:DAYLIGHT
TZOFFSETFROM:+0100
TZOFFSETTO:+0200
TZNAME:CEST
DTSTART:20250330T010000
END:DAYLIGHT
BEGIN:STANDARD
TZOFFSETFROM:+0200
TZOFFSETTO:+0100
TZNAME:CET
DTSTART:20251026T010000
END:STANDARD
BEGIN:DAYLIGHT
TZOFFSETFROM:+0100
TZOFFSETTO:+0200
TZNAME:CEST
DTSTART:20260329T010000
END:DAYLIGHT
BEGIN:STANDARD
TZOFFSETFROM:+0200
TZOFFSETTO:+0100
TZNAME:CET
DTSTART:20261025T010000
END:STANDARD
END:VTIMEZONE
BEGIN:VEVENT
DTSTART;VALUE=DATE:20251207
DTEND;VALUE=DATE:20251208
DTSTAMP:20260420T181243
CREATED:20251201T132346Z
LAST-MODIFIED:20251201T132346Z
UID:1071-1765065600-1765151999@inmediasbrass.hu
SUMMARY:In medias brass koncert Újtitkos
DESCRIPTION:
URL:https://inmediasbrass.hu/event/in-medias-brass-koncert-ujtitkos/
END:VEVENT
BEGIN:VEVENT
DTSTART;VALUE=DATE:20251207
DTEND;VALUE=DATE:20251208
DTSTAMP:20260420T181243
CREATED:20251201T132412Z
LAST-MODIFIED:20251201T132412Z
UID:1075-1765065600-1765151999@inmediasbrass.hu
SUMMARY:In medias brass koncert Zaránk
DESCRIPTION:
URL:https://inmediasbrass.hu/event/in-medias-brass-koncert-zarank/
END:VEVENT
END:VCALENDAR