BEGIN:VCALENDAR
VERSION:2.0
PRODID:-//In Medias Brass - ECPv6.15.17.1//NONSGML v1.0//EN
CALSCALE:GREGORIAN
METHOD:PUBLISH
X-WR-CALNAME:In Medias Brass
X-ORIGINAL-URL:https://inmediasbrass.hu
X-WR-CALDESC:Események In Medias Brass
REFRESH-INTERVAL;VALUE=DURATION:PT1H
X-Robots-Tag:noindex
X-PUBLISHED-TTL:PT1H
BEGIN:VTIMEZONE
TZID:Europe/Paris
BEGIN:DAYLIGHT
TZOFFSETFROM:+0100
TZOFFSETTO:+0200
TZNAME:CEST
DTSTART:20250330T010000
END:DAYLIGHT
BEGIN:STANDARD
TZOFFSETFROM:+0200
TZOFFSETTO:+0100
TZNAME:CET
DTSTART:20251026T010000
END:STANDARD
BEGIN:DAYLIGHT
TZOFFSETFROM:+0100
TZOFFSETTO:+0200
TZNAME:CEST
DTSTART:20260329T010000
END:DAYLIGHT
BEGIN:STANDARD
TZOFFSETFROM:+0200
TZOFFSETTO:+0100
TZNAME:CET
DTSTART:20261025T010000
END:STANDARD
BEGIN:DAYLIGHT
TZOFFSETFROM:+0100
TZOFFSETTO:+0200
TZNAME:CEST
DTSTART:20270328T010000
END:DAYLIGHT
BEGIN:STANDARD
TZOFFSETFROM:+0200
TZOFFSETTO:+0100
TZNAME:CET
DTSTART:20271031T010000
END:STANDARD
END:VTIMEZONE
BEGIN:VEVENT
DTSTART;VALUE=DATE:20260216
DTEND;VALUE=DATE:20260217
DTSTAMP:20260420T142051
CREATED:20251201T132630Z
LAST-MODIFIED:20260212T101641Z
UID:1099-1771200000-1771286399@inmediasbrass.hu
SUMMARY:In medias brass koncert Somogy County
DESCRIPTION:
URL:https://inmediasbrass.hu/event/in-medias-brass-koncert-somogy-county/
ATTACH;FMTTYPE=image/jpeg:https://inmediasbrass.hu/wp-content/uploads/2025/05/in-medias-brass-thumbnail-1.jpg
END:VEVENT
BEGIN:VEVENT
DTSTART;VALUE=DATE:20260217
DTEND;VALUE=DATE:20260218
DTSTAMP:20260420T142051
CREATED:20251201T132647Z
LAST-MODIFIED:20260212T101650Z
UID:1103-1771286400-1771372799@inmediasbrass.hu
SUMMARY:In medias brass koncert Somogy County
DESCRIPTION:
URL:https://inmediasbrass.hu/event/in-medias-brass-koncert-somogy-county-2/
ATTACH;FMTTYPE=image/jpeg:https://inmediasbrass.hu/wp-content/uploads/2025/05/in-medias-brass-thumbnail-1.jpg
END:VEVENT
BEGIN:VEVENT
DTSTART;VALUE=DATE:20260218
DTEND;VALUE=DATE:20260219
DTSTAMP:20260420T142051
CREATED:20251201T132702Z
LAST-MODIFIED:20260212T101706Z
UID:1107-1771372800-1771459199@inmediasbrass.hu
SUMMARY:In medias brass koncert Somogy County
DESCRIPTION:
URL:https://inmediasbrass.hu/event/in-medias-brass-koncert-somogy-county-3/
ATTACH;FMTTYPE=image/jpeg:https://inmediasbrass.hu/wp-content/uploads/2025/05/in-medias-brass-thumbnail-1.jpg
END:VEVENT
BEGIN:VEVENT
DTSTART;VALUE=DATE:20260219
DTEND;VALUE=DATE:20260220
DTSTAMP:20260420T142051
CREATED:20251201T132716Z
LAST-MODIFIED:20260212T101558Z
UID:1111-1771459200-1771545599@inmediasbrass.hu
SUMMARY:In medias brass koncert Somogy County
DESCRIPTION:
URL:https://inmediasbrass.hu/event/in-medias-brass-koncert-somogy-county-4/
ATTACH;FMTTYPE=image/jpeg:https://inmediasbrass.hu/wp-content/uploads/2025/05/in-medias-brass-thumbnail-1.jpg
END:VEVENT
BEGIN:VEVENT
DTSTART;VALUE=DATE:20260220
DTEND;VALUE=DATE:20260221
DTSTAMP:20260420T142051
CREATED:20251201T132734Z
LAST-MODIFIED:20260212T101538Z
UID:1115-1771545600-1771631999@inmediasbrass.hu
SUMMARY:In medias brass koncert Somogy County
DESCRIPTION:
URL:https://inmediasbrass.hu/event/in-medias-brass-koncert-somogy-county-5/
ATTACH;FMTTYPE=image/jpeg:https://inmediasbrass.hu/wp-content/uploads/2025/05/in-medias-brass-thumbnail-1.jpg
END:VEVENT
END:VCALENDAR